BEGIN:VCALENDAR
VERSION:2.0
PRODID:-//ChamberMaster//Event Calendar 2.0//EN
METHOD:PUBLISH
X-PUBLISHED-TTL:P3D
REFRESH-INTERVAL:P3D
CALSCALE:GREGORIAN
BEGIN:VEVENT
DTSTART:20240614T120000Z
DTEND:20240614T200000Z
X-MICROSOFT-CDO-ALLDAYEVENT:FALSE
SUMMARY:Golf Outing Chamber 30th Annual 2024
DESCRIPTION:You don't want to miss the Largest Golf Outing of the Season!\n\n30th Annual Chamber of Commerce Golf Outing at our very own \n\nLincoln Hills Golf Club\, Upper Sandusky\, Ohio
X-ALT-DESC;FMTTYPE=text/html:<br />\n<br />\nYou don&#39\;t want to miss the Largest Golf Outing of the Season!<br />\n30th Annual Chamber of Commerce Golf Outing at our very own&nbsp\;<br />\nLincoln Hills Golf Club\, Upper Sandusky\, Ohio<br />\n<br />\n&nbsp\;
LOCATION:Lincoln Hills Golf Club 5377 County Highway 330 Upper Sandusky\, OH
UID:e.59.9031
SEQUENCE:3
DTSTAMP:20260424T183552Z
URL:https://business.wyandotchamber.com/events/details/golf-outing-chamber-30th-annual-2024-9031
END:VEVENT

END:VCALENDAR
