BEGIN:VCALENDAR
VERSION:2.0
PRODID:-//ChamberMaster//Event Calendar 2.0//EN
METHOD:PUBLISH
X-PUBLISHED-TTL:P3D
REFRESH-INTERVAL:P3D
CALSCALE:GREGORIAN
BEGIN:VEVENT
DTSTART:20190725T230000Z
DTEND:20190725T230000Z
X-MICROSOFT-CDO-ALLDAYEVENT:FALSE
SUMMARY:Linda Getz
DESCRIPTION:Life and photography of Harry Kinley
X-ALT-DESC;FMTTYPE=text/html:Life and photography of Harry Kinley&nbsp\;
LOCATION:130 south seventh street\, upper Sandusky\, oh 43351
UID:e.59.8215
SEQUENCE:3
DTSTAMP:20260419T194333Z
URL:https://business.wyandotchamber.com/events/details/linda-getz-8215
END:VEVENT

END:VCALENDAR
