BEGIN:VCALENDAR
VERSION:2.0
PRODID:-//ChamberMaster//Event Calendar 2.0//EN
METHOD:PUBLISH
X-PUBLISHED-TTL:P3D
REFRESH-INTERVAL:P3D
CALSCALE:GREGORIAN
BEGIN:VEVENT
DTSTART;VALUE=DATE:20260423
DTEND;VALUE=DATE:20260427
TRANSP:TRANSPARENT
X-MICROSOFT-CDO-ALLDAYEVENT:TRUE
SUMMARY:Star Theatre Presents - Dearly Departed
DESCRIPTION:Tickets are on sale for our drop-dead-funny spring production\, Dearly Departed\, which debuts soon!!\n\n\n\nMeet Ray-Bud and Lucille Turpin - the dearly departed's son and his wife\, played by Rev. Jim Stauffer and Jordan Treadway.\n\n\n\nFind out more about the Turpin familiy here on Facebook in the next couple of weeks\, and grab your tickets before they're gone. Directed by Eric Julian "EJ" Walker\, this show runs one weekend only - April 23-26.\n\n\n\nGet tickets now at startheatre.org.\n\n\n\nNeed help? Call 419-294-1411 and leave a message with your name\, number\, and desire show/seats. We'll get back to you!
X-ALT-DESC;FMTTYPE=text/html:<div class="xdj266r x14z9mp xat24cr x1lziwak x1vvkbs x126k92a" style="white-space: pre-wrap\; margin-inline: 0px\; overflow-wrap: break-word\; margin-bottom: 0px\; margin-top: 0px\; font-family: &quot\;Segoe UI Historic&quot\;\, &quot\;Segoe UI&quot\;\, Helvetica\, Arial\, sans-serif\; color: rgb(8\, 8\, 9)\; font-size: 15px\;">\n<div dir="auto" style="font-family: inherit\;">Tickets are on sale for our drop-dead-funny spring production\, Dearly Departed\, which debuts soon!!</div>\n</div>\n\n<div class="x14z9mp xat24cr x1lziwak x1vvkbs xtlvy1s x126k92a" style="white-space: pre-wrap\; margin-inline: 0px\; overflow-wrap: break-word\; margin-bottom: 0px\; margin-top: 0.5em\; font-family: &quot\;Segoe UI Historic&quot\;\, &quot\;Segoe UI&quot\;\, Helvetica\, Arial\, sans-serif\; color: rgb(8\, 8\, 9)\; font-size: 15px\;">\n<div dir="auto" style="font-family: inherit\;">Meet Ray-Bud and Lucille Turpin - the dearly departed&#39\;s son and his wife\, played by Rev. Jim Stauffer and Jordan Treadway.</div>\n</div>\n\n<div class="x14z9mp xat24cr x1lziwak x1vvkbs xtlvy1s x126k92a" style="white-space: pre-wrap\; margin-inline: 0px\; overflow-wrap: break-word\; margin-bottom: 0px\; margin-top: 0.5em\; font-family: &quot\;Segoe UI Historic&quot\;\, &quot\;Segoe UI&quot\;\, Helvetica\, Arial\, sans-serif\; color: rgb(8\, 8\, 9)\; font-size: 15px\;">\n<div dir="auto" style="font-family: inherit\;">Find out more about the Turpin familiy here on Facebook in the next couple of weeks\, and grab your tickets before they&#39\;re gone. Directed by Eric Julian &quot\;EJ&quot\; Walker\, this show runs one weekend only - April 23-26.</div>\n</div>\n\n<div class="x14z9mp xat24cr x1lziwak x1vvkbs xtlvy1s x126k92a" style="white-space: pre-wrap\; margin-inline: 0px\; overflow-wrap: break-word\; margin-bottom: 0px\; margin-top: 0.5em\; font-family: &quot\;Segoe UI Historic&quot\;\, &quot\;Segoe UI&quot\;\, Helvetica\, Arial\, sans-serif\; color: rgb(8\, 8\, 9)\; font-size: 15px\;">\n<div dir="auto" style="font-family: inherit\;">Get tickets now at <span class="html-span xdj266r x14z9mp xat24cr x1lziwak xexx8yu xyri2b x18d9i69 x1c1uobl x1hl2dhg x16tdsg8 x1vvkbs" style="margin-inline: 0px\; text-align: inherit\; padding-inline: 0px\; overflow-wrap: break-word\; padding-bottom: 0px\; margin-bottom: 0px\; margin-top: 0px\; padding-top: 0px\; font-family: inherit\;"><a attributionsrc="/privacy_sandbox/comet/register/source/?xt=AZYsQu9bTcoORCIFvURzMDCtfJb7Bbnfp_HSHC6yEsnFJNhhVPkMC6vRbL2CGoVgN1FHFOssVnNAo1UIlSmvCDzndES6Dh9gxK4k8QxyNQhTY8snRqXc0-dFysCn-xo6r0RIbXZa_dV1rns-j6QRzx3T1voIpBmFxUTsDQWszD37OZyrFN9Px1ZplulkabZ1Qh5_x6iZBdMegsUFYgdFFydwMtp4AXgT355qbgiGEfokzsqZOAvZSPbvIB7rq8fQzFRAlrC3t-RzLYETrebs8EhkvjuYu41CPlQZl485M6X6sVJYODigHP95NOv3TydYjnttV2mm0Tfs8opNVilhn8QnuV52E5gbv_Tas_5wB2eytbH9DGKWBi_qM315_8r1RD9gO05iNBA7kTQGgqcXf7HlHXuhorKQAK3_6if6-GmD9ocPJv_at9TrMTCVZ5TWFcPnSw4pnLOVhDJ86ohedluheoG4132RMsMIAkSFUZdV3yMGTxJg7n5z-pfn1F5GJAoaucIGGHRhoRyg5Nspht-CZfFeqfSU0jQJ4RPvn26I9KcCmZcJK4yEyymCkG3SLj765aRtJNbpTTYq34vFw-qxSfS_ur7UpU88G9M4jhI31LkQny5n95Oamaz_vZiAXaPBP6sVOjWiQKds94I2SqefiZjuxLe5CYK3LUkOLs4Jvro1Y3eOUAIlPZ74upyaw5iyfcp6knh7xsgpg7v3C2WwpneitVrpuBQvxETFcICvjSa9FnkX03FDxVEkU27qWlG3AHEMznPG2M8e1OwLvw6ebw5LE9mw1ImQCGm6lQgrl59TdxRHVjSGEluTZP9cGAO3pVzVQKmv_6TS30n1EHXGFBnEyi9zdjnHswbVnTyJ7MvV2q2I8bOjphmLqBycSZ3x5aKbHHW1hiYI1jt7XWnhcSQeCJWnQCsoTu_pYbf6liP7_NTwgkU2uG_Df7ndr_zbwXVBAqI4Pfvj-jgT0bRyiL5szBsNbUpaKyNcLpBP9n4VdH1CFca2vThgIl5Zu1gwLaG6TkTV6WV6yZG1UDKuApsAcz0lAeq17NAeLYsWxKAyBWahIh9IvNPy1A6QsBm67n6UTSP4el6tKhuKnDmIyy_6NhYW7PG8HiB1F9nJ1nkRb1XAd6IBCHFCUuHSGWq263OufEU18F1xs9E9MtBTAIinTggWOWV7noWd7mWKtf0v5SMzhtdMIPygzsPKe4Qu9Z2fa158V_6u6wTCj9OBQK7Lk1zAfRK1U1-db7AJiPPla8SG9DAKxYn91T9eEfnbbbRxzdH4MhPxWN9Pv6sU96ZQQbes7tYj7u1KCFJOJ0eFLnM5yGuDudhdGdqecRdTzQMLBxla97zd4FVb-kyliXJOq-N89wtwKfBP06Zt8DqJKmCG_5s7bGJ1NyH4ro_0LyTCWR183BeIvs8fV3UfuUFrdCIIUJC-ZsDH5DbkWA4zQWOIc64mDipYAWoslVz3uRm4kZGCIkxqspXhXWqb" class="x1i10hfl xjbqb8w x1ejq31n x18oe1m7 x1sy0etr xstzfhl x972fbf x10w94by x1qhh985 x14e42zd x9f619 x1ypdohk xt0psk2 x3ct3a4 xdj266r x14z9mp xat24cr x1lziwak xexx8yu xyri2b x18d9i69 x1c1uobl x16tdsg8 x1hl2dhg xggy1nq x1a2a7pz xkrqix3 x1sur9pj x1fey0fg x1s688f" href="https://l.facebook.com/l.php?u=http%3A%2F%2Fstartheatre.org%2F%3Ffbclid%3DIwZXh0bgNhZW0CMTAAYnJpZBExZWhDY1lUVHNFWkRidGhva3NydGMGYXBwX2lkEDIyMjAzOTE3ODgyMDA4OTIAAR746s1Sefofs63ACNGTbyMbASp_wuGQh3kOZ0hOjOahYYWB3F-iDqCc4udupg_aem_V7wQtehPtu5lVEBK0rX5ZA&amp\;h=AT56Dy7bZe7kH9Y2ff3rz-gFvWzwG6eEQzT1Ymx4O0aEBjBSFWJGTFTdk7gXbnseYElhebDwIFn_Y3eOyVd5SDcaCd6_ZDHAVX1yXYUGHdTR2izSbeB7kakKLh_DVba-R81PhiC8IX288it4&amp\;__tn__=-UK-R&amp\;c[0]=AT5YGHxtdrtjuqGc1isf1MRwfnvQQkPLzPVYO89e_qK8L6As9gx008-9fI9Md0Ly-ZgZafIIrGnNXlYRAtyD2oV_X5ND7bdADnpRROfUoz4i4EHX4fxA0TumKMRkw3IY2O6dAfNkEjIxYZvfci4J4hlL1gB9snXmM70G-ktPoX9o1VogLGBFKZf0tItmhEUD8Y174gNAe4_F5cvKbuMP_WvJCw" rel="nofollow noreferrer" role="link" style="color: rgb(0\, 100\, 209)\; cursor: pointer\; text-decoration: none\; outline: none\; border-inline-width: 0px\; margin-inline: 0px\; text-align: inherit\; border-inline-style: none\; padding-inline: 0px\; -webkit-tap-highlight-color: transparent\; font-weight: 600\; list-style-type: none\; box-sizing: border-box\; touch-action: manipulation\; background-color: transparent\; display: inline\; padding-bottom: 0px\; border-top-style: none\; border-bottom-width: 0px\; border-bottom-style: none\; border-top-width: 0px\; margin-bottom: 0px\; margin-top: 0px\; padding-top: 0px\; font-family: inherit\;" tabindex="0" target="_blank">startheatre.org.</a></span></div>\n</div>\n\n<div class="x14z9mp xat24cr x1lziwak x1vvkbs xtlvy1s x126k92a" style="white-space: pre-wrap\; margin-inline: 0px\; overflow-wrap: break-word\; margin-bottom: 0px\; margin-top: 0.5em\; font-family: &quot\;Segoe UI Historic&quot\;\, &quot\;Segoe UI&quot\;\, Helvetica\, Arial\, sans-serif\; color: rgb(8\, 8\, 9)\; font-size: 15px\;">\n<div dir="auto" style="font-family: inherit\;">Need help? Call 419-294-1411 and leave a message with your name\, number\, and desire show/seats. We&#39\;ll get back to you!</div>\n</div>\n
LOCATION:
UID:e.59.9185
SEQUENCE:3
DTSTAMP:20260420T203223Z
URL:https://business.wyandotchamber.com/events/details/star-theatre-presents-dearly-departed-9185
END:VEVENT

END:VCALENDAR
