BEGIN:VCALENDAR
VERSION:2.0
PRODID:-//ChamberMaster//Event Calendar 2.0//EN
METHOD:PUBLISH
X-PUBLISHED-TTL:P3D
REFRESH-INTERVAL:P3D
CALSCALE:GREGORIAN
BEGIN:VEVENT
DTSTART;VALUE=DATE:20220601
DTEND;VALUE=DATE:20220602
TRANSP:TRANSPARENT
X-MICROSOFT-CDO-ALLDAYEVENT:TRUE
SUMMARY:SUMMER READING PROGRAM KICKS OFF JUNE 1
DESCRIPTION:The possibilities are endless with this year?s Oceans of Possibilities Summer Reading Program at Upper Sandusky Community Library. Summer reading begins June 1 and participants can sign up now at the library or online at usclibrary.org. Pick up a Bingo packet at the front desk and get to reading! When you complete a task on the Bingo card\, make sure to mark it off ? each bingo equals an entry for one of the prize drawings. Be sure to check out all the exciting programs for children and adults running throughout the summer reading program\, too.
X-ALT-DESC;FMTTYPE=text/html:The possibilities are endless with this year?s Oceans of Possibilities Summer Reading Program at Upper Sandusky Community Library. Summer reading begins June 1 and participants can sign up now at the library or online at usclibrary.org. Pick up a Bingo packet at the front desk and get to reading! When you complete a task on the Bingo card\, make sure to mark it off ? each bingo equals an entry for one of the prize drawings. Be sure to check out all the exciting programs for children and adults running throughout the summer reading program\, too.
LOCATION:For more information about this or any other library program\, stop by the front desk or call the library at 419-294-1345.
UID:e.59.8817
SEQUENCE:3
DTSTAMP:20260421T111321Z
URL:https://business.wyandotchamber.com/events/details/summer-reading-program-kicks-off-june-1-8817
END:VEVENT

END:VCALENDAR
